BEGIN:VCALENDAR
VERSION:2.0
PRODID:-//The B-Town (Burien) Blog - ECPv6.15.20//NONSGML v1.0//EN
CALSCALE:GREGORIAN
METHOD:PUBLISH
X-WR-CALNAME:The B-Town (Burien) Blog
X-ORIGINAL-URL:https://b-townblog.com
X-WR-CALDESC:Events for The B-Town (Burien) Blog
REFRESH-INTERVAL;VALUE=DURATION:PT1H
X-Robots-Tag:noindex
X-PUBLISHED-TTL:PT1H
BEGIN:VTIMEZONE
TZID:America/Los_Angeles
BEGIN:DAYLIGHT
TZOFFSETFROM:-0800
TZOFFSETTO:-0700
TZNAME:PDT
DTSTART:20250309T100000
END:DAYLIGHT
BEGIN:STANDARD
TZOFFSETFROM:-0700
TZOFFSETTO:-0800
TZNAME:PST
DTSTART:20251102T090000
END:STANDARD
BEGIN:DAYLIGHT
TZOFFSETFROM:-0800
TZOFFSETTO:-0700
TZNAME:PDT
DTSTART:20260308T100000
END:DAYLIGHT
BEGIN:STANDARD
TZOFFSETFROM:-0700
TZOFFSETTO:-0800
TZNAME:PST
DTSTART:20261101T090000
END:STANDARD
BEGIN:DAYLIGHT
TZOFFSETFROM:-0800
TZOFFSETTO:-0700
TZNAME:PDT
DTSTART:20270314T100000
END:DAYLIGHT
BEGIN:STANDARD
TZOFFSETFROM:-0700
TZOFFSETTO:-0800
TZNAME:PST
DTSTART:20271107T090000
END:STANDARD
END:VTIMEZONE
BEGIN:VEVENT
DTSTART;TZID=America/Los_Angeles:20260422T160000
DTEND;TZID=America/Los_Angeles:20260422T170000
DTSTAMP:20260422T014047
CREATED:20260421T170152Z
LAST-MODIFIED:20260421T170152Z
UID:226527-1776873600-1776877200@b-townblog.com
SUMMARY:Nelle’s to celebrate ribbon cutting in Burien on Wednesday\, April 22
DESCRIPTION:A new coffee shop owned and operated by former Three Tree Point Store owner Nelle Reichert is inviting the community to celebrate its opening with a ribbon cutting ceremony this week. \n“Nelle’s” will host a ribbon cutting event this Wednesday\, April 22 at 4 p.m.\, followed by its first full day of operations on Thursday\, April 23\, according to information provided by the business. \nThe event will take place at Nelle’s location at 646 SW 152nd Street in Burien (map below). \nWhen officially opened\, residents are encouraged to “swing by\, stay all day.”
URL:https://b-townblog.com/event/nelles-to-celebrate-ribbon-cutting-in-burien-on-wednesday-april-22/
LOCATION:Nelle’s\, 646 SW 152nd Street\, Burien\, WA\, 98166\, United States
ATTACH;FMTTYPE=image/jpeg:https://b-townblog.com/wp-content/uploads/2026/04/BTB-NellesRibbonCutting042226.jpg
END:VEVENT
END:VCALENDAR